BEGIN:VCALENDAR
VERSION:2.0
PRODID:-//Tri Preston - ECPv6.15.11//NONSGML v1.0//EN
CALSCALE:GREGORIAN
METHOD:PUBLISH
X-ORIGINAL-URL:https://www.tripreston.co.uk
X-WR-CALDESC:Events for Tri Preston
REFRESH-INTERVAL;VALUE=DURATION:PT1H
X-Robots-Tag:noindex
X-PUBLISHED-TTL:PT1H
BEGIN:VTIMEZONE
TZID:UTC
BEGIN:STANDARD
TZOFFSETFROM:+0000
TZOFFSETTO:+0000
TZNAME:UTC
DTSTART:20220101T000000
END:STANDARD
END:VTIMEZONE
BEGIN:VEVENT
DTSTART;TZID=UTC:20230706T200000
DTEND;TZID=UTC:20230706T210000
DTSTAMP:20260422T173331
CREATED:20230704T092328Z
LAST-MODIFIED:20230704T161423Z
UID:1122-1688673600-1688677200@www.tripreston.co.uk
SUMMARY:July Committee Meeting
DESCRIPTION:Members catchup after July committee meeting. \nIt’s a great opportunity for new members to meet the committee and existing members and ask any questions you might have. It’s also a great excuse to have a drink and eat some pizza.
URL:https://www.tripreston.co.uk/event/july-committee-meeting/
ATTACH;FMTTYPE=image/jpeg:https://www.tripreston.co.uk/wp-content/uploads/2023/07/TP4.jpg
ORGANIZER;CN="Andy Orton":MAILTO:info@tripreston.co.uk
END:VEVENT
END:VCALENDAR