BEGIN:VCALENDAR
VERSION:2.0
PRODID:-//Tri Preston - ECPv6.15.11//NONSGML v1.0//EN
CALSCALE:GREGORIAN
METHOD:PUBLISH
X-WR-CALNAME:Tri Preston
X-ORIGINAL-URL:https://www.tripreston.co.uk
X-WR-CALDESC:Events for Tri Preston
REFRESH-INTERVAL;VALUE=DURATION:PT1H
X-Robots-Tag:noindex
X-PUBLISHED-TTL:PT1H
BEGIN:VTIMEZONE
TZID:UTC
BEGIN:STANDARD
TZOFFSETFROM:+0000
TZOFFSETTO:+0000
TZNAME:UTC
DTSTART:20220101T000000
END:STANDARD
END:VTIMEZONE
BEGIN:VEVENT
DTSTART;TZID=UTC:20231005T190000
DTEND;TZID=UTC:20231005T200000
DTSTAMP:20260422T121049
CREATED:20230920T075459Z
LAST-MODIFIED:20231003T214705Z
UID:1271-1696532400-1696536000@www.tripreston.co.uk
SUMMARY:Thursday Night Couch to 5K
DESCRIPTION:A series of run walk sessions to build distance/time with the end goal of completing a 5k Park run just before Christmas. \nMeet at 6:50pm for a 7:00pm start. All Sessions will be held at Preston Docs\, meet at Springfield Financial Services. Parking available. \n  \n 
URL:https://www.tripreston.co.uk/event/thursday-night-couch-to-5k/
LOCATION:Preston Docks\, Preston Docs\, Ashton-on-Ribble\, Preston\, PR2 2YP\, United Kingdom
ATTACH;FMTTYPE=image/png:https://www.tripreston.co.uk/wp-content/uploads/2023/09/cropped-Tri-Preston-Couch.png
END:VEVENT
END:VCALENDAR