BEGIN:VCALENDAR
VERSION:2.0
PRODID:-//Tri Preston - ECPv6.15.11//NONSGML v1.0//EN
CALSCALE:GREGORIAN
METHOD:PUBLISH
X-ORIGINAL-URL:https://www.tripreston.co.uk
X-WR-CALDESC:Events for Tri Preston
REFRESH-INTERVAL;VALUE=DURATION:PT1H
X-Robots-Tag:noindex
X-PUBLISHED-TTL:PT1H
BEGIN:VTIMEZONE
TZID:UTC
BEGIN:STANDARD
TZOFFSETFROM:+0000
TZOFFSETTO:+0000
TZNAME:UTC
DTSTART:20220101T000000
END:STANDARD
END:VTIMEZONE
BEGIN:VEVENT
DTSTART;TZID=UTC:20230919T193000
DTEND;TZID=UTC:20230919T203000
DTSTAMP:20260422T084334
CREATED:20230919T181259Z
LAST-MODIFIED:20230919T181259Z
UID:1234-1695151800-1695155400@www.tripreston.co.uk
SUMMARY:Coaches Meeting
DESCRIPTION:Coaches Meeting – Craft and Crust\, 14 Liverpool Rd\, Penwortham\, Preston PR1 0AD @ 7:30pm
URL:https://www.tripreston.co.uk/event/coaches-meeting/
LOCATION:Craft and Crust\, Craft and Crust (1260)\, Penwortham\, Prston\, PR1 0AD\, United Kingdom
ATTACH;FMTTYPE=image/jpeg:https://www.tripreston.co.uk/wp-content/uploads/2023/04/bike-wheels.jpg
END:VEVENT
BEGIN:VEVENT
DTSTART;TZID=UTC:20230930T090000
DTEND;TZID=UTC:20230930T110000
DTSTAMP:20260422T084334
CREATED:20230924T171233Z
LAST-MODIFIED:20230926T094619Z
UID:1370-1696064400-1696071600@www.tripreston.co.uk
SUMMARY:Saturday Trail Run - All Abilities
DESCRIPTION:TP Trail Run \n9am meet at Ramblers Country Cafe. \nThis Session will be taken by Dan McParland. \nSocial paced run for all abilities. Loads of route options both flat and lumpy and plenty of parking outside the Ramblers. Post run breakfast at Ramblers or pint at The Royal Arms opposite.
URL:https://www.tripreston.co.uk/event/saturday-run/
LOCATION:Ramblers Country Cafe\, Tockholes Rd\, Darwen\, BB3 0PA\, United Kingdom
ATTACH;FMTTYPE=image/png:https://www.tripreston.co.uk/wp-content/uploads/2023/09/Tri-Preston-trail-run.png
ORGANIZER;CN="Lorna Cleminson":MAILTO:info@tripreston.co.uk
END:VEVENT
END:VCALENDAR